BEGIN:VCALENDAR
VERSION:2.0
PRODID:-//LINK by UMA-ATech - ECPv6.15.20//NONSGML v1.0//EN
CALSCALE:GREGORIAN
METHOD:PUBLISH
X-ORIGINAL-URL:https://www.link.uma.es
X-WR-CALDESC:Eventos para LINK by UMA-ATech
REFRESH-INTERVAL;VALUE=DURATION:PT1H
X-Robots-Tag:noindex
X-PUBLISHED-TTL:PT1H
BEGIN:VTIMEZONE
TZID:UTC
BEGIN:STANDARD
TZOFFSETFROM:+0000
TZOFFSETTO:+0000
TZNAME:UTC
DTSTART:20210101T000000
END:STANDARD
END:VTIMEZONE
BEGIN:VEVENT
DTSTART;TZID=UTC:20221122T080000
DTEND;TZID=UTC:20221122T200000
DTSTAMP:20260425T153319
CREATED:20221004T122422Z
LAST-MODIFIED:20221102T124041Z
UID:54648-1669104000-1669147200@www.link.uma.es
SUMMARY:Oposiciones CSIC
DESCRIPTION:Durante la semana del 21 de noviembre\, en horario de 8:00 a 20:00 de la tarde\, se celebrarán en nuestras instalacciones pruebas del proceso selectivo para cubrir plazas del Centro Superior de Investigaciones Científicas (CSIC)
URL:https://www.link.uma.es/event/oposiciones-csic-2/
LOCATION:Sala 2.04\, 2ª planta de Link\, Avenida Louis Pasteur\, 47\, Málaga\, Málaga\, 29010\, España
ATTACH;FMTTYPE=image/png:https://www.link.uma.es/wp-content/uploads/2022/10/indifgsgfgfsgfde.png
ORGANIZER;CN="Javier Pozueta Romero":MAILTO:javier.pozueta@csic.es
END:VEVENT
BEGIN:VEVENT
DTSTART;TZID=UTC:20221122T163000
DTEND;TZID=UTC:20221122T203000
DTSTAMP:20260425T153319
CREATED:20220927T105658Z
LAST-MODIFIED:20221122T104136Z
UID:54601-1669134600-1669149000@www.link.uma.es
SUMMARY:Curso K-Skills Coaching para construir futuro IV
DESCRIPTION:Sesión presencial del Curso de K-Skills Coaching para construir futuro IV\, coordinado por Antonio Manuel Ciruela Lorenzo e impartido por Itziar de la Rubia Sedeño.\n\n\n¿Quieres poseer los recursos y estrategias necesarios que te permitan acceder al ejercicio de tu profesión de forma innovadora\, gestionando tus propios estados emocionales e induciendo cambios en las personas con las que trabajas? Si la respuesta es afirmativa este es tu curso\, en el que aprenderás a: \n\nPlantear objetivos de forma correcta y planificar las acciones necesarias para la consecución de los mismos.\nAumentar la claridad mental para la correcta toma de decisiones.\nMejorar las pautas para la gestión del estrés y las emociones.\nInducir estados positivos tanto en uno mismo como en los demás.\nExtrapolar los estados internos logrados del ámbito personal al profesional y viceversa.\nGestionar las relaciones interpersonales en todos los ámbitos y aumentar su calidad\, de tal forma que generen entornos saludables.\n\nLas técnicas que se van a utilizar pertenecen a disciplinas alternativas tales como Mindfulness\, Inteligencia Emocional y Programación Neurolingüística.
URL:https://www.link.uma.es/event/kskills-coaching-construir-futuro-iv-3/
LOCATION:Sala 3.01\, Tercera Planta\, Avenida Louis Pasteur\, 47\, Málaga\, Málaga\, 29010\, España
ATTACH;FMTTYPE=image/png:https://www.link.uma.es/wp-content/uploads/2022/09/kskills-coaching4.png
ORGANIZER;CN="Antonio Manuel Ciruela. Vicedecano de calidad y cooperaci%C3%B3n. Facultad de Estudios sociales y del trabajo":MAILTO:acl@uma.es
END:VEVENT
END:VCALENDAR