BEGIN:VCALENDAR
VERSION:2.0
PRODID:-//LINK by UMA-ATech - ECPv6.15.20//NONSGML v1.0//EN
CALSCALE:GREGORIAN
METHOD:PUBLISH
X-ORIGINAL-URL:https://www.link.uma.es
X-WR-CALDESC:Eventos para LINK by UMA-ATech
REFRESH-INTERVAL;VALUE=DURATION:PT1H
X-Robots-Tag:noindex
X-PUBLISHED-TTL:PT1H
BEGIN:VTIMEZONE
TZID:UTC
BEGIN:STANDARD
TZOFFSETFROM:+0000
TZOFFSETTO:+0000
TZNAME:UTC
DTSTART:20210101T000000
END:STANDARD
END:VTIMEZONE
BEGIN:VEVENT
DTSTART;TZID=UTC:20221118T070000
DTEND;TZID=UTC:20221118T200000
DTSTAMP:20260425T164745
CREATED:20220725T080752Z
LAST-MODIFIED:20221010T125953Z
UID:54294-1668754800-1668801600@www.link.uma.es
SUMMARY:Flash Session Hackathon 3ª Edición
DESCRIPTION:Sala 3.01 + 3.02 + coworking + salón de actos\, de 08:00 a 20:00 h \nTe invitamos a que participes en la mayor experiencia de creación de ideas emprendedoras de la Universidad de Málaga. \nEl Hackathon en el que poner a prueba todo lo que sabes\, un evento presencial de 3 días para aprender juntos de forma práctica como se transforman las mejores ideas en proyectos innovadores. Dependiendo de tus intereses y cualidades crearemos equipos multidisciplinares de coocreación\, donde dar forma a las mejores ideas del grupo con la ayuda de expertos top.  \n¿Quieres innovar?  ¿Tienes talento?  ¿Tienes ganas de vivir una experiencia increíble? ¿o simplemente conocer gente con tus mismas inquietudes? \n¡Participa\, aprende y disfruta a partes iguales de nuestra Flash Session Hackathon\, la Jam de las Ideas! 😉  16\, 17 y 18 de noviembre en Link By UMA.
URL:https://www.link.uma.es/event/flashsessionhackathon3-3/
LOCATION:Salón de Actos +3.01 y 3.02 + 2.04
ATTACH;FMTTYPE=image/jpeg:https://www.link.uma.es/wp-content/uploads/2022/07/WhatsApp-Image-2022-10-10-at-12.10.45-PM.jpeg
ORGANIZER;CN="Miguel Infantes N%C3%BA%C3%B1ez.":MAILTO:minfantes@mainfor.edu.es
END:VEVENT
BEGIN:VEVENT
DTSTART;TZID=UTC:20221118T090000
DTEND;TZID=UTC:20221118T230000
DTSTAMP:20260425T164745
CREATED:20220912T102332Z
LAST-MODIFIED:20220912T102332Z
UID:54441-1668762000-1668812400@www.link.uma.es
SUMMARY:Reunión Investigadores IHSM
DESCRIPTION:
URL:https://www.link.uma.es/event/reunion-investigadores-ihsm-7/
LOCATION:Salón de Actos. Planta Baja
ORGANIZER;CN="Eduardo Rodr%C3%ADguez Bejarano. IHSM":MAILTO:Edu_rodri@uma.es
END:VEVENT
BEGIN:VEVENT
DTSTART;TZID=UTC:20221118T093000
DTEND;TZID=UTC:20221118T133000
DTSTAMP:20260425T164745
CREATED:20221017T081237Z
LAST-MODIFIED:20221017T081237Z
UID:54856-1668763800-1668778200@www.link.uma.es
SUMMARY:Reunión Equipo de trabajo SANCOZ
DESCRIPTION:
URL:https://www.link.uma.es/event/reunion-equipo-de-trabajo-sancoz-2/
LOCATION:Sala 2.01
ATTACH;FMTTYPE=image/png:https://www.link.uma.es/wp-content/uploads/2022/10/logo_sancoz.png
ORGANIZER;CN="Cristina Paniagua":MAILTO:cristina.paniagua@sancoz.com
END:VEVENT
BEGIN:VEVENT
DTSTART;TZID=UTC:20221118T110000
DTEND;TZID=UTC:20221118T140000
DTSTAMP:20260425T164745
CREATED:20221005T080227Z
LAST-MODIFIED:20221102T092300Z
UID:54664-1668769200-1668780000@www.link.uma.es
SUMMARY:Sala 2.04. 11 a 14h. Polaris Academy con Nicolás Morcillo
DESCRIPTION:Sala 2.04\, 2ª planta – 11.00 a 14.00 h \nSesión 5. Cuestiones jurídicas para la creación y funcionamiento de sociedades \nContenidos: \n– Particularidades de Start-ups y Ebts \n– Formas jurídicas de actuar en el mercado. Tipos de sociedades \n– Regulación interna. Estatutos y pactos de socios \n– Regulación externa. Protocolos de contratación (nda\, loi\, contratos de obra y servicios\, etc.) \n– Caso práctico \nPonente: Nicolás Morcillo \nEnlace a LinkedIn: https://www.linkedin.com/in/nicol%C3%A1s-morcillo-hidalgo-a7381851/ \nDía: 18 de noviembre \nHora: 11 a 14 horas \nLugar: Aula 204
URL:https://www.link.uma.es/event/polaris-academy-37/
LOCATION:Sala 2.04\, 2ª planta de Link\, Avenida Louis Pasteur\, 47\, Málaga\, Málaga\, 29010\, España
ATTACH;FMTTYPE=image/jpeg:https://www.link.uma.es/wp-content/uploads/2018/10/POLARIS-ACADEMY-CIRCULO.jpg
ORGANIZER;CN="Fuensanta Galindo. Directora Polaris Academy[%3Aen]Fuensanta Galindo.":MAILTO:fuensantagalindo@uma.es
END:VEVENT
END:VCALENDAR