BEGIN:VCALENDAR
VERSION:2.0
PRODID:-//LINK by UMA-ATech - ECPv6.15.20//NONSGML v1.0//EN
CALSCALE:GREGORIAN
METHOD:PUBLISH
X-ORIGINAL-URL:https://www.link.uma.es
X-WR-CALDESC:Eventos para LINK by UMA-ATech
REFRESH-INTERVAL;VALUE=DURATION:PT1H
X-Robots-Tag:noindex
X-PUBLISHED-TTL:PT1H
BEGIN:VTIMEZONE
TZID:UTC
BEGIN:STANDARD
TZOFFSETFROM:+0000
TZOFFSETTO:+0000
TZNAME:UTC
DTSTART:20190101T000000
END:STANDARD
END:VTIMEZONE
BEGIN:VEVENT
DTSTART;TZID=UTC:20201201T160000
DTEND;TZID=UTC:20201201T200000
DTSTAMP:20260419T221013
CREATED:20200928T114220Z
LAST-MODIFIED:20200928T114220Z
UID:48332-1606838400-1606852800@www.link.uma.es
SUMMARY:Polaris Academy
DESCRIPTION:Sala 3.01\, 3ª planta de Link\, de 16 a 20 h. \nPolaris Academy tiene como objetivo que los equipos de los proyectos Spin-Off adquieran y desarrollen las competencias personales\, interpersonales y de negocio\, mediante un sistema experiencial y significativo\, para establecer el rumbo y la velocidad de sus proyectos en la aventura que acaban de iniciar.
URL:https://www.link.uma.es/event/polaris-academy-18/
LOCATION:Sala 3.01\, Tercera Planta\, Avenida Louis Pasteur\, 47\, Málaga\, Málaga\, 29010\, España
ATTACH;FMTTYPE=image/jpeg:https://www.link.uma.es/wp-content/uploads/2020/04/POLARIS-ACADEMY.jpg
ORGANIZER;CN="Jose Mar%C3%ADa de la Varga y Fuensanta Galindo%2C Coordinadores Programa Polaris. Departamento de Econom%C3%ADa y Administraci%C3%B3n de Empresas de la UMA.[%3Aen]Pepe de la Varga":MAILTO:jmdelavarga@uma.es / fuensantagalindo@uma.es
END:VEVENT
BEGIN:VEVENT
DTSTART;TZID=UTC:20201201T160000
DTEND;TZID=UTC:20201201T200000
DTSTAMP:20260419T221013
CREATED:20201124T073330Z
LAST-MODIFIED:20201124T073330Z
UID:48999-1606838400-1606852800@www.link.uma.es
SUMMARY:K-Skills: Inteligencias Múltiples y Habilidades Sociales para el fomento del emprendimiento
DESCRIPTION:Online Campus Virtual \nK-Skills: Inteligencias Múltiples y Habilidades Sociales para el fomento del emprendimiento \nEl objetivo del curso es el de mejorar la capacidad de liderazgo\, de trabajo en equipo\, las habilidades comunicativas\, la creatividad e innovación\, vitales en el diseño\, defensa y ejecución de proyectos profesionales en el contexto actual.\nContenidos que se trabajan: Comunicación verbal y no verbal; Inteligencia Emocional; Innovación\, Emprendimiento y nuevos modelos de negocio. \nHorario y  fechas: 1 al 15 de diciembre\, de 16:00 a 20:00 horas \nLugar: Tres sesiones virtuales (a través del Campus Virtual) y dos presenciales (Facultad de Ciencias de la Comunicación UMA). \nCoordinación: Ana Almansa Martínez \nImparten:  \n\nAna Almansa Martínez\nAntonio Castillo Esparcia\nAna Castillo Díaz\nRocío Chamizo Sánchez\nFrancisco Javier Poleo\nJorge Álvaro Recena\n\nInscripción: https://forms.gle/mUKijRc9Lnz562QaA  \n 
URL:https://www.link.uma.es/event/k-skills-inteligencias-multiples-y-habilidades-sociales-para-el-fomento-del-emprendimiento/
LOCATION:ONLINE
ATTACH;FMTTYPE=image/jpeg:https://www.link.uma.es/wp-content/uploads/2020/11/Inteligencisa-múltiples-2.jpeg
ORGANIZER;CN="Ana Almansa. CC.Comunicaci%C3%B3n UMA":MAILTO:aam@uma.es
END:VEVENT
END:VCALENDAR