BEGIN:VCALENDAR
VERSION:2.0
PRODID:-//LINK by UMA-ATech - ECPv6.15.20//NONSGML v1.0//EN
CALSCALE:GREGORIAN
METHOD:PUBLISH
X-WR-CALNAME:LINK by UMA-ATech
X-ORIGINAL-URL:https://www.link.uma.es
X-WR-CALDESC:Eventos para LINK by UMA-ATech
REFRESH-INTERVAL;VALUE=DURATION:PT1H
X-Robots-Tag:noindex
X-PUBLISHED-TTL:PT1H
BEGIN:VTIMEZONE
TZID:UTC
BEGIN:STANDARD
TZOFFSETFROM:+0000
TZOFFSETTO:+0000
TZNAME:UTC
DTSTART:20180101T000000
END:STANDARD
END:VTIMEZONE
BEGIN:VEVENT
DTSTART;TZID=UTC:20190205T100000
DTEND;TZID=UTC:20190205T140000
DTSTAMP:20260423T030320
CREATED:20190130T123036Z
LAST-MODIFIED:20190130T123036Z
UID:41219-1549360800-1549375200@www.link.uma.es
SUMMARY:Reunión de trabajo Deporte Universitario
DESCRIPTION:Sala 2.01\, 2ª planta de Link\, de 10.00 a 14.00 horas. \nReunión de trabajo del equipo de Deporte Universitario.
URL:https://www.link.uma.es/event/reunion-de-trabajo-deporte-universitario/
LOCATION:Sala 2.01\, Segunda Planta\, Avenida Louis Pasteur\, 47\, Málaga\, Málaga\, 29010\, España
ATTACH;FMTTYPE=image/png:https://www.link.uma.es/wp-content/uploads/2017/01/logo-uma.png
ORGANIZER;CN="Jose Eloy Cano. Deportes UMA":MAILTO:jecano@uma.es
END:VEVENT
BEGIN:VEVENT
DTSTART;TZID=UTC:20190205T120000
DTEND;TZID=UTC:20190205T140000
DTSTAMP:20260423T030320
CREATED:20190204T100321Z
LAST-MODIFIED:20190204T100321Z
UID:41274-1549368000-1549375200@www.link.uma.es
SUMMARY:Reunión CGI
DESCRIPTION:Reunión privada de equipo CGI
URL:https://www.link.uma.es/event/reunion-cgi/
LOCATION:Sala 3.02\, Tercera Planta\, Avenida Louis Pasteur\, 47\, Málaga\, Málaga\, 29010\, España
ATTACH;FMTTYPE=image/png:https://www.link.uma.es/wp-content/uploads/2017/05/cgi-logo-430.png
ORGANIZER;CN="Antonio Palomo. CGI":MAILTO:antonio.palomomunoz@cgi.com
END:VEVENT
BEGIN:VEVENT
DTSTART;TZID=UTC:20190205T160000
DTEND;TZID=UTC:20190205T200000
DTSTAMP:20260423T030320
CREATED:20181221T115532Z
LAST-MODIFIED:20190130T112024Z
UID:40865-1549382400-1549396800@www.link.uma.es
SUMMARY:Sesión 9 - Polaris Academy
DESCRIPTION:Sala 3.01\, 3ª planta de Link\, de 16.00 a 20.00 horas. \nPonente: Alfredo Vázquez Reyes – https://es.linkedin.com/in/alfredovazquezreyes \nTítulo de la sesión: Quieres invertir en mi startup\, y lo sabes. \nContenidos: \n\nPor qué la creatividad hará tu presentación memorable\nComo llevar a la práctica una presentación. Casos reales.\nLa importancia del Why\, How\, What.\nEl marketing que tu presentación necesita.\nReinventando nuestro mensaje.
URL:https://www.link.uma.es/event/sesion-10-polaris-academy/
LOCATION:Sala 3.01\, Tercera Planta\, Avenida Louis Pasteur\, 47\, Málaga\, Málaga\, 29010\, España
ATTACH;FMTTYPE=image/jpeg:https://www.link.uma.es/wp-content/uploads/2018/10/POLARIS-ACADEMY-CIRCULO.jpg
ORGANIZER;CN="Jose Mar%C3%ADa de la Varga y Fuensanta Galindo%2C Coordinadores Programa Polaris. Departamento de Econom%C3%ADa y Administraci%C3%B3n de Empresas de la UMA.[%3Aen]Pepe de la Varga":MAILTO:jmdelavarga@uma.es / fuensantagalindo@uma.es
END:VEVENT
BEGIN:VEVENT
DTSTART;TZID=UTC:20190205T160000
DTEND;TZID=UTC:20190205T200000
DTSTAMP:20260423T030320
CREATED:20190130T114416Z
LAST-MODIFIED:20190130T114416Z
UID:41212-1549382400-1549396800@www.link.uma.es
SUMMARY:Reto Explorer: "Un minuto con los Explorer"
DESCRIPTION:Coworking\, 4ª planta de Link\, de 16.00 a 20.00 horas. \nEn esta ocasión se trata de «Un Minuto con los Explorer»\, debemos realizar un vídeo donde presentemos el Space de Málaga\, su lugares emblemáticos y todo sobre  The Green Ray.  \nEl programa Explorer impulsa tus ideas para mejorar el mundo\, mediante un programa de formación especializada para aprende habilidades emprendedoras: innovar\, crear\, comunicar\, vender… de la mano de más de 200 profesionales expertos. \nPor otro lado\, contarás con el apoyo y asesoramiento personalizado de empresarios experimentados. \nY para motivarte\, si tu proyecto es el mejor del Centro Explorer Málaga\, viajarás a San Francisco y optarás a premios en metálico: >80.000€ en financiación. \nAdemas\, podrás formar parte de la mayor red de emprendedores\, Santander X\, la comunidad global que conecta a emprendedores de todo el mundo que tiene acceso a servicios y contenidos exclusivos.
URL:https://www.link.uma.es/event/reto-explorer-un-minuto-con-los-explorer-2/
LOCATION:Coworking\, Cuarta Planta\, Avenida Louis Pasteur\, 47\, Málaga\, Málaga\, 29010\, España
ATTACH;FMTTYPE=image/jpeg:https://www.link.uma.es/wp-content/uploads/2016/11/explorer.jpg
ORGANIZER;CN="Natalia Cer%C3%B3n - Explorer":MAILTO:explorermalaga@gmail.com
END:VEVENT
BEGIN:VEVENT
DTSTART;TZID=UTC:20190205T160000
DTEND;TZID=UTC:20190205T210000
DTSTAMP:20260423T030320
CREATED:20181219T120707Z
LAST-MODIFIED:20190124T114228Z
UID:40829-1549382400-1549400400@www.link.uma.es
SUMMARY:ViewNext: Taller Git&Git Flow
DESCRIPTION:Sala 2.01 – 16.00 a 21.00 h \nSe imparte un taller de formación sobre «GIT & GIT FLOW». \n 
URL:https://www.link.uma.es/event/formacion-viewnext-54/
LOCATION:Sala 2.01\, Segunda Planta\, Avenida Louis Pasteur\, 47\, Málaga\, Málaga\, 29010\, España
ATTACH;FMTTYPE=image/png:https://www.link.uma.es/wp-content/uploads/2017/01/Viewnext.png
ORGANIZER;CN="Nuria L%C3%B3pez Villafranca":MAILTO:nlopez@viewnext.com
END:VEVENT
BEGIN:VEVENT
DTSTART;TZID=UTC:20190205T163000
DTEND;TZID=UTC:20190205T203000
DTSTAMP:20260423T030320
CREATED:20190123T132435Z
LAST-MODIFIED:20190123T132435Z
UID:41045-1549384200-1549398600@www.link.uma.es
SUMMARY:Ciberseguridad
DESCRIPTION:Aula Samsung\, de 16.30 a 20.30 horas \nII CURSO DE EXTENSIÓN UNIVERSITARIA DE INTRODUCCIÓN A LA CIBERSEGURIDAD EN SISTEMAS INFORMÁTICOS \n Curso orientado a adquirir los conocimientos sobre los procedimientos\, técnicas y herramientas para la protección de sistemas y redes de información\, así como la privacidad de sus usuarios. \nFecha de inicio de curso:  14/01/2019       Fecha de fin:  15/03/2019\nLugar:  Aula Samsung\, Edificio El Rayo Verde\, ampliación del Campus de Teatinos.\nHorario:  Lunes a Jueves de 16:30 a 20:30 horas.\nRequisitos de acceso:\nTener formación reglada de Bachiller LOGSE/Formación Profesional con conocimientos informáticos relacionados con el contexto del curso.\nEncontrarse en situación de desempleo. \nPrograma:\nMÓDULO 1.- Fundamentos de Ciberseguridad\nMÓDULO 2.- Seguridad en Sistemas Operativos\nMÓDULO 3.- Seguridad y Privacidad en Internet\nMÓDULO 4.- Hacking ético\nMÓDULO 5.- Protección ante Malware
URL:https://www.link.uma.es/event/ciberseguridad-14/
LOCATION:Aula Samsung
ATTACH;FMTTYPE=image/png:https://www.link.uma.es/wp-content/uploads/2018/04/cursos-aula-samsung.png
ORGANIZER;CN="Maril%C3%B3 Rom%C3%A1n":MAILTO:mroman@uma.es
END:VEVENT
END:VCALENDAR